BEGIN:VCALENDAR
VERSION:2.0
PRODID:SchoolNow
CALSCALE:GREGORIAN
BEGIN:VEVENT
UID:08fd1758-0beb-11ec-9639-0a6ba753d79f
DTSTAMP:20211002T041343Z
SUMMARY:CDD Board Meeting - Oct. 2021
LOCATION:Heritage Harbour Golf Club\, 8000 Stone Harbour Loop Bradenton\, F
 L 34212 United States
URL;VALUE=URI:https://www.heritageharboursouthcdd.org/calendar/2700054/cdd-
 board-meeting-oct-2021
DTSTART:20211005T200000Z
DTEND:20211005T220000Z
ATTACH;FILENAME=2021-10-05 Heritage Harbour South- Revised Final Agenda- we
 bsite.pdf;FMTTYPE=application/pdf:https://campussuite-storage.s3.amazonaws
 .com/prod/1558888/9b0d9434-ea9a-11e9-8219-0a31933f87ea/2323679/0d262d5c-23
 37-11ec-a928-0ae81361cce3/file/2021-10-05 Heritage Harbour South- Revised 
 Final Agenda- website.pdf
END:VEVENT
END:VCALENDAR
