BEGIN:VCALENDAR
VERSION:2.0
PRODID:SchoolNow
CALSCALE:GREGORIAN
BEGIN:VEVENT
UID:694bff02-0beb-11ec-8189-0a6ba753d79f
DTSTAMP:20211026T014201Z
SUMMARY:CDD Board Meeting - Nov. 2021
LOCATION:Stoneybrook Recreation Center located at 200 Golden Harbour Trail\
 , Bradenton\, Florida 34212
URL;VALUE=URI:https://www.heritageharboursouthcdd.org/calendar/2700055/cdd-
 board-meeting-nov-2021
DTSTART:20211102T190000Z
DTEND:20211102T210000Z
ATTACH;FILENAME=2021-11-02-Heritage Harbour  South-Full Final Agenda - Webs
 ite.pdf;FMTTYPE=application/pdf:https://campussuite-storage.s3.amazonaws.c
 om/prod/1558888/9b0d9434-ea9a-11e9-8219-0a31933f87ea/2334625/c64ba96e-35fd
 -11ec-b516-0253b090c367/file/2021-11-02-Heritage Harbour  South-Full Final
  Agenda - Website.pdf
END:VEVENT
END:VCALENDAR
