BEGIN:VCALENDAR
VERSION:2.0
PRODID:SchoolNow
CALSCALE:GREGORIAN
BEGIN:VEVENT
UID:735b392c-0beb-11ec-95f0-0a6ba753d79f
DTSTAMP:20211201T144435Z
SUMMARY:CDD Board Meeting - Dec. 2021
LOCATION:Heritage Harbour Golf Club\, 8000 Stone Harbour Loop Bradenton\, F
 L 34212 United States
URL;VALUE=URI:https://www.heritageharboursouthcdd.org/calendar/2700056/cdd-
 board-meeting-dec-2021
DTSTART:20211207T210000Z
DTEND:20211207T230000Z
ATTACH;FILENAME=2021-12-7 HHS Final Agenda Website rev.pdf;FMTTYPE=applicat
 ion/pdf:https://campussuite-storage.s3.amazonaws.com/prod/1558888/9b0d9434
 -ea9a-11e9-8219-0a31933f87ea/2349304/2eab18cc-52b5-11ec-b1e9-0ec886a7f319/
 file/2021-12-7 HHS Final Agenda Website rev.pdf
END:VEVENT
END:VCALENDAR
