BEGIN:VCALENDAR
VERSION:2.0
PRODID:SchoolNow
CALSCALE:GREGORIAN
BEGIN:VEVENT
UID:7f11510c-0beb-11ec-9544-0a6ba753d79f
DTSTAMP:20220125T074504Z
SUMMARY:CDD Board Meeting - Feb. 2022
LOCATION:Heritage Harbour Golf Club\, 8000 Stone Harbour Loop Bradenton\, F
 L 34212 United States
URL;VALUE=URI:https://www.heritageharboursouthcdd.org/calendar/2700057/cdd-
 board-meeting-feb-2022
DTSTART:20220201T210000Z
DTEND:20220201T230000Z
ATTACH;FILENAME=2022-02-01 Heritage Harbour South - Final Agenda web.pdf;FM
 TTYPE=application/pdf:https://campussuite-storage.s3.amazonaws.com/prod/15
 58888/9b0d9434-ea9a-11e9-8219-0a31933f87ea/2366774/902c4260-7db2-11ec-b69a
 -02e67ed55d03/file/2022-02-01 Heritage Harbour South - Final Agenda web.pd
 f
END:VEVENT
END:VCALENDAR
