BEGIN:VCALENDAR
VERSION:2.0
PRODID:SchoolNow
CALSCALE:GREGORIAN
BEGIN:VEVENT
UID:88b11e72-0beb-11ec-915b-0a6ba753d79f
DTSTAMP:20220221T163410Z
SUMMARY:CDD Board Meeting - Mar. 2022
LOCATION:Heritage Harbour Golf Club\, 8000 Stone Harbour Loop Bradenton\, F
 L 34212 United States
URL;VALUE=URI:https://www.heritageharboursouthcdd.org/calendar/2700058/cdd-
 board-meeting-mar-2022
DTSTART:20220301T210000Z
DTEND:20220301T230000Z
ATTACH;FILENAME=2022-03-01 Heritage Harbour South -Final Agenda web.pdf;FMT
 TYPE=application/pdf:https://campussuite-storage.s3.amazonaws.com/prod/155
 8888/9b0d9434-ea9a-11e9-8219-0a31933f87ea/2378177/1501a980-9334-11ec-bac2-
 0eeb9bc3bc11/file/2022-03-01 Heritage Harbour South -Final Agenda web.pdf
END:VEVENT
END:VCALENDAR
