BEGIN:VCALENDAR
VERSION:2.0
PRODID:SchoolNow
CALSCALE:GREGORIAN
BEGIN:VEVENT
UID:cfeab974-0beb-11ec-a0b0-0a6ba753d79f
DTSTAMP:20210902T124637Z
SUMMARY:CDD Board Meeting - Apr. 2022
LOCATION:Heritage Harbour Golf Club\, 8000 Stone Harbour Loop Bradenton\, F
 L 34212 United States
URL;VALUE=URI:https://www.heritageharboursouthcdd.org/calendar/2700060/cdd-
 board-meeting-apr-2022
DTSTART:20220405T200000Z
DTEND:20220405T220000Z
END:VEVENT
END:VCALENDAR
