BEGIN:VCALENDAR
VERSION:2.0
PRODID:SchoolNow
CALSCALE:GREGORIAN
BEGIN:VEVENT
UID:dbd934cc-0beb-11ec-b42e-0a6ba753d79f
DTSTAMP:20210902T124657Z
SUMMARY:CDD Board Meeting - May 2022
LOCATION:Heritage Harbour Golf Club\, 8000 Stone Harbour Loop Bradenton\, F
 L 34212 United States
URL;VALUE=URI:https://www.heritageharboursouthcdd.org/calendar/2700061/cdd-
 board-meeting-may-2022
DTSTART:20220503T200000Z
DTEND:20220503T220000Z
END:VEVENT
END:VCALENDAR
