BEGIN:VCALENDAR
VERSION:2.0
PRODID:SchoolNow
CALSCALE:GREGORIAN
BEGIN:VEVENT
UID:db465896-431c-11ed-958a-0e8d50c885b7
DTSTAMP:20221103T183736Z
SUMMARY:Cancelled- CDD Board Meeting - Dec. 2022
LOCATION:Heritage Harbour South Golf Course located at 8000 Stone Harbour L
 oop\, Bradenton\, Florida 34212
URL;VALUE=URI:https://www.heritageharboursouthcdd.org/calendar/3475580/cdd-
 board-meeting-dec-2022
DTSTART:20221206T210000Z
DTEND:20221206T230000Z
END:VEVENT
END:VCALENDAR
