BEGIN:VCALENDAR
VERSION:2.0
PRODID:SchoolNow
CALSCALE:GREGORIAN
BEGIN:VEVENT
UID:eb5da040-431c-11ed-8964-0e8d50c885b7
DTSTAMP:20221003T131140Z
SUMMARY:CDD Board Meeting - Feb. 2023
LOCATION:Heritage Harbour South Golf Course located at 8000 Stone Harbour L
 oop\, Bradenton\, Florida 34212
URL;VALUE=URI:https://www.heritageharboursouthcdd.org/calendar/3475581/cdd-
 board-meeting-feb-2023
DTSTART:20230207T210000Z
DTEND:20230207T230000Z
END:VEVENT
END:VCALENDAR
