BEGIN:VCALENDAR
VERSION:2.0
PRODID:SchoolNow
CALSCALE:GREGORIAN
BEGIN:VEVENT
UID:f95ed1aa-431c-11ed-a159-0e8d50c885b7
DTSTAMP:20230222T174658Z
SUMMARY:CDD Board Meeting - Mar. 2023
LOCATION:Stoneybrook Recreation Center located at 200 Golden Harbour Trail\
 , Bradenton\, Florida 34212
URL;VALUE=URI:https://www.heritageharboursouthcdd.org/calendar/3475582/cdd-
 board-meeting-mar-2023
DTSTART:20230307T210000Z
DTEND:20230307T230000Z
END:VEVENT
END:VCALENDAR
