BEGIN:VCALENDAR
VERSION:2.0
PRODID:SchoolNow
CALSCALE:GREGORIAN
BEGIN:VEVENT
UID:11b9da92-431d-11ed-85c6-0e8d50c885b7
DTSTAMP:20230222T174713Z
SUMMARY:CDD Board Meeting - May 2023
LOCATION:Stoneybrook Recreation Center located at 200 Golden Harbour Trail\
 , Bradenton\, Florida 34212
URL;VALUE=URI:https://www.heritageharboursouthcdd.org/calendar/3475584/cdd-
 board-meeting-may-2023
DTSTART:20230502T200000Z
DTEND:20230502T220000Z
END:VEVENT
END:VCALENDAR
