BEGIN:VCALENDAR
VERSION:2.0
PRODID:SchoolNow
CALSCALE:GREGORIAN
BEGIN:VEVENT
UID:21aa3636-431d-11ed-8c6f-0e8d50c885b7
DTSTAMP:20230222T174720Z
SUMMARY:CDD Board Meeting - Jun. 2023
LOCATION:Stoneybrook Recreation Center located at 200 Golden Harbour Trail\
 , Bradenton\, Florida 34212
URL;VALUE=URI:https://www.heritageharboursouthcdd.org/calendar/3475585/cdd-
 board-meeting-jun-2023
DTSTART:20230606T200000Z
DTEND:20230606T220000Z
END:VEVENT
END:VCALENDAR
