BEGIN:VCALENDAR
VERSION:2.0
PRODID:SchoolNow
CALSCALE:GREGORIAN
BEGIN:VEVENT
UID:2c86e860-431d-11ed-9081-0e8d50c885b7
DTSTAMP:20230706T123638Z
SUMMARY:CDD Board Meeting - Jul. 2023
LOCATION:Stoneybrook Recreation Center located at 200 Golden Harbour Trail\
 , Bradenton\, Florida 34212
URL;VALUE=URI:https://www.heritageharboursouthcdd.org/calendar/3475586/cdd-
 board-meeting-jul-2023
DTSTART:20230711T210000Z
DTEND:20230711T230000Z
ATTACH;FILENAME=2023-07-11 Final Agenda.pdf;FMTTYPE=application/pdf:https:/
 /campussuite-storage.s3.amazonaws.com/prod/1558888/9b0d9434-ea9a-11e9-8219
 -0a31933f87ea/2627369/b8c3be06-1bf9-11ee-a444-0e399338071b/file/2023-07-11
  Final Agenda.pdf
END:VEVENT
END:VCALENDAR
