BEGIN:VCALENDAR
VERSION:2.0
PRODID:SchoolNow
CALSCALE:GREGORIAN
BEGIN:VEVENT
UID:3725ce26-431d-11ed-89d9-0e8d50c885b7
DTSTAMP:20230731T170945Z
SUMMARY:CDD Board Meeting - Aug. 2023
LOCATION:Stoneybrook Recreation Center located at 200 Golden Harbour Trail\
 , Bradenton\, Florida 34212
URL;VALUE=URI:https://www.heritageharboursouthcdd.org/calendar/3475587/cdd-
 board-meeting-aug-2023
DTSTART:20230801T210000Z
DTEND:20230801T230000Z
ATTACH;FILENAME=2023-08-01 Second Revised Final Agenda.pdf;FMTTYPE=applicat
 ion/pdf:https://campussuite-storage.s3.amazonaws.com/prod/1558888/9b0d9434
 -ea9a-11e9-8219-0a31933f87ea/2636339/05097290-2fc5-11ee-95cb-0a98f260fbcb/
 file/2023-08-01 Second Revised Final Agenda.pdf
END:VEVENT
END:VCALENDAR
