BEGIN:VCALENDAR
VERSION:2.0
PRODID:SchoolNow
CALSCALE:GREGORIAN
BEGIN:VEVENT
UID:473c91d2-431d-11ed-91de-0e8d50c885b7
DTSTAMP:20230905T121600Z
SUMMARY:CDD Board Meeting - Sept. 2023
LOCATION:Stoneybrook Recreation Center located at 200 Golden Harbour Trail\
 , Bradenton\, Florida 34212.  To call in dial 1-646-838-1601\, Code 680 52
 1 931#.
URL;VALUE=URI:https://www.heritageharboursouthcdd.org/calendar/3475588/cdd-
 board-meeting-sept-2023
DTSTART:20230905T210000Z
DTEND:20230905T230000Z
ATTACH;FILENAME=2023-09-05 Hertiage Harbour South - Final Agenda.pdf;FMTTYP
 E=application/pdf:https://campussuite-storage.s3.amazonaws.com/prod/155888
 8/9b0d9434-ea9a-11e9-8219-0a31933f87ea/2651307/68e765a8-4693-11ee-af60-0e8
 4a383af55/file/2023-09-05 Hertiage Harbour South - Final Agenda.pdf
END:VEVENT
END:VCALENDAR
