BEGIN:VCALENDAR
VERSION:2.0
PRODID:SchoolNow
CALSCALE:GREGORIAN
BEGIN:VEVENT
UID:ad62c806-5ba4-11ed-92d2-0ec3bf1d8689
DTSTAMP:20221103T182608Z
SUMMARY:CDD Board Special Meeting- Nov. 2022
LOCATION:Heritage Harbour South Golf Course located at 8000 Stone Harbour L
 oop\, Bradenton\, FL 34212
URL;VALUE=URI:https://www.heritageharboursouthcdd.org/calendar/3585593/cdd-
 board-special-meeting-nov-2022
DTSTART:20221128T210000Z
DTEND:20221128T220000Z
END:VEVENT
END:VCALENDAR
