BEGIN:VCALENDAR
VERSION:2.0
PRODID:SchoolNow
CALSCALE:GREGORIAN
BEGIN:VEVENT
UID:8a0e4e50-c3f2-11ed-8949-0ae543ce2d69
DTSTAMP:20230316T120403Z
SUMMARY:CDD Budget Workshop- Mar. 2022
LOCATION:Stoneybrook Recreation Center located at 200 Golden Harbour Trail\
 , Bradenton\, Florida 34212
URL;VALUE=URI:https://www.heritageharboursouthcdd.org/calendar/3876191/cdd-
 budget-workshop
DTSTART:20230321T200000Z
DTEND:20230321T210000Z
END:VEVENT
END:VCALENDAR
