BEGIN:VCALENDAR
VERSION:2.0
PRODID:SchoolNow
CALSCALE:GREGORIAN
BEGIN:VEVENT
UID:8545c766-42b1-11ee-9d3a-0a58a9feac02
DTSTAMP:20231003T135548Z
SUMMARY:CDD Board Meeting - Oct. 2023 (See event details for Microsoft Team
 s meeting info)
LOCATION:Stoneybrook Recreation Center located at 200 Golden Harbour Trail\
 , Bradenton\, Florida 34212.
URL;VALUE=URI:https://www.heritageharboursouthcdd.org/calendar/4621533/cdd-
 board-meeting-oct-2023
DTSTART:20231003T210000Z
DTEND:20231003T230000Z
ATTACH;FILENAME=2023-10-03 - Heritage Harbour South CDD - Revised Final Age
 nda.pdf;FMTTYPE=application/pdf:https://campussuite-storage.s3.amazonaws.c
 om/prod/1558888/9b0d9434-ea9a-11e9-8219-0a31933f87ea/2669714/16b4e324-5d49
 -11ee-bd0d-0241d8b2eff7/file/2023-10-03 - Heritage Harbour South CDD - Rev
 ised Final Agenda.pdf
END:VEVENT
END:VCALENDAR
