BEGIN:VCALENDAR
VERSION:2.0
PRODID:SchoolNow
CALSCALE:GREGORIAN
BEGIN:VEVENT
UID:92d6faee-42b1-11ee-a6e6-0ec7e20a94e7
DTSTAMP:20231107T171211Z
SUMMARY:CDD Board Meeting - Nov. 2023
LOCATION:Stoneybrook Recreation Center located at 200 Golden Harbour Trail\
 , Bradenton\, Florida 34212.  To call in dial 1-646-838-1601\, Code 680 52
 1 931#.
URL;VALUE=URI:https://www.heritageharboursouthcdd.org/calendar/4621534/cdd-
 board-meeting-nov-2023
DTSTART:20231107T220000Z
DTEND:20231108T000000Z
ATTACH;FILENAME=2023-11-07 - Heritage Harbour South CDD - Revised Final Age
 nda.pdf;FMTTYPE=application/pdf:https://campussuite-storage.s3.amazonaws.c
 om/prod/1558888/9b0d9434-ea9a-11e9-8219-0a31933f87ea/2696589/c57ac9b6-7d90
 -11ee-be12-0ae79fd21467/file/2023-11-07 - Heritage Harbour South CDD - Rev
 ised Final Agenda.pdf
END:VEVENT
END:VCALENDAR
