BEGIN:VCALENDAR
VERSION:2.0
PRODID:SchoolNow
CALSCALE:GREGORIAN
BEGIN:VEVENT
UID:9c572008-42b1-11ee-9852-021e10b920ff
DTSTAMP:20231205T192558Z
SUMMARY:CDD Board Meeting - Dec. 2023
LOCATION:Stoneybrook Recreation Center located at 200 Golden Harbour Trail\
 , Bradenton\, Florida 34212.  To call in dial 1-646-838-1601\, Code 680 52
 1 931#.
URL;VALUE=URI:https://www.heritageharboursouthcdd.org/calendar/4621535/cdd-
 board-meeting-dec-2023
DTSTART:20231205T220000Z
DTEND:20231206T000000Z
ATTACH;FILENAME=2023-12-05 - Heritage Harbour South CDD - Revised Final Age
 nda.pdf;FMTTYPE=application/pdf:https://campussuite-storage.s3.amazonaws.c
 om/prod/1558888/9b0d9434-ea9a-11e9-8219-0a31933f87ea/2708849/19756a3e-93a4
 -11ee-a722-0a58a9feac02/file/2023-12-05 - Heritage Harbour South CDD - Rev
 ised Final Agenda.pdf
END:VEVENT
END:VCALENDAR
