BEGIN:VCALENDAR
VERSION:2.0
PRODID:SchoolNow
CALSCALE:GREGORIAN
BEGIN:VEVENT
UID:eed93de8-42b1-11ee-801c-0a58a9feac02
DTSTAMP:20240820T151430Z
SUMMARY:CDD Board Meeting - Aug. 2024
LOCATION:Stoneybrook Recreation Center located at 200 Golden Harbour Trail\
 , Bradenton\, Florida 34212.  To call in dial 1-646-838-1601\, Code 680 52
 1 931#.
URL;VALUE=URI:https://www.heritageharboursouthcdd.org/calendar/4621542/cdd-
 board-meeting-aug-2024
DTSTART:20240820T210000Z
DTEND:20240820T230000Z
ATTACH;FILENAME=2024-08-20 - Heritage Harbour CDD - Revised Agenda.pdf;FMTT
 YPE=application/pdf:https://campussuite-storage.s3.amazonaws.com/prod/1558
 888/9b0d9434-ea9a-11e9-8219-0a31933f87ea/2833267/dd3c905e-5f06-11ef-9689-0
 a58a9feac02/file/2024-08-20 - Heritage Harbour CDD - Revised Agenda.pdf
END:VEVENT
END:VCALENDAR
