BEGIN:VCALENDAR
VERSION:2.0
PRODID:SchoolNow
CALSCALE:GREGORIAN
BEGIN:VEVENT
UID:fc363450-42b1-11ee-a4ff-0221131887f9
DTSTAMP:20240814T171228Z
SUMMARY:CDD Board Meeting - Sept. 2024 - Canceled
LOCATION:Stoneybrook Recreation Center located at 200 Golden Harbour Trail\
 , Bradenton\, Florida 34212.  To call in dial 1-646-838-1601\, Code 680 52
 1 931#.
URL;VALUE=URI:https://www.heritageharboursouthcdd.org/calendar/4621543/cdd-
 board-meeting-sept-2024-canceled
DTSTART:20240903T210000Z
DTEND:20240903T230000Z
END:VEVENT
END:VCALENDAR
