BEGIN:VCALENDAR
VERSION:2.0
PRODID:SchoolNow
CALSCALE:GREGORIAN
BEGIN:VEVENT
UID:91222b26-2da5-11ef-aee0-0affc33b44cd
DTSTAMP:20240710T130620Z
SUMMARY:CDD Board Meeting - Jul. 10th\,. 2024
LOCATION:Stoneybrook Recreation Center located at 200 Golden Harbour Trail\
 , Bradenton\, Florida 34212
URL;VALUE=URI:https://www.heritageharboursouthcdd.org/calendar/6139486/cdd-
 board-meeting-jul-10th-2024
DTSTART:20240710T210000Z
DTEND:20240710T230000Z
ATTACH;FILENAME=2024-07-10 - Heritage Harbour CDD - Second Revised Agenda (
 2).pdf;FMTTYPE=application/pdf:https://campussuite-storage.s3.amazonaws.co
 m/prod/1558888/9b0d9434-ea9a-11e9-8219-0a31933f87ea/2816888/2ee2a322-3ebd-
 11ef-b04a-0a58a9feac02/file/2024-07-10 - Heritage Harbour CDD - Second Rev
 ised Agenda (2).pdf
END:VEVENT
END:VCALENDAR
